BEGIN:VCALENDAR
VERSION:2.0
PRODID:-//Big Bear Ranch - ECPv6.15.18//NONSGML v1.0//EN
CALSCALE:GREGORIAN
METHOD:PUBLISH
X-WR-CALNAME:Big Bear Ranch
X-ORIGINAL-URL:https://bigbearranch.com
X-WR-CALDESC:Events for Big Bear Ranch
REFRESH-INTERVAL;VALUE=DURATION:PT1H
X-Robots-Tag:noindex
X-PUBLISHED-TTL:PT1H
BEGIN:VTIMEZONE
TZID:America/Vancouver
BEGIN:DAYLIGHT
TZOFFSETFROM:-0800
TZOFFSETTO:-0700
TZNAME:PDT
DTSTART:20220313T100000
END:DAYLIGHT
BEGIN:STANDARD
TZOFFSETFROM:-0700
TZOFFSETTO:-0800
TZNAME:PST
DTSTART:20221106T090000
END:STANDARD
BEGIN:DAYLIGHT
TZOFFSETFROM:-0800
TZOFFSETTO:-0700
TZNAME:PDT
DTSTART:20230312T100000
END:DAYLIGHT
BEGIN:STANDARD
TZOFFSETFROM:-0700
TZOFFSETTO:-0800
TZNAME:PST
DTSTART:20231105T090000
END:STANDARD
BEGIN:DAYLIGHT
TZOFFSETFROM:-0800
TZOFFSETTO:-0700
TZNAME:PDT
DTSTART:20240310T100000
END:DAYLIGHT
BEGIN:STANDARD
TZOFFSETFROM:-0700
TZOFFSETTO:-0800
TZNAME:PST
DTSTART:20241103T090000
END:STANDARD
END:VTIMEZONE
BEGIN:VEVENT
DTSTART;VALUE=DATE:20230505
DTEND;VALUE=DATE:20230506
DTSTAMP:20260420T181919
CREATED:20230325T115454Z
LAST-MODIFIED:20230414T173827Z
UID:2015-1683244800-1683331199@bigbearranch.com
SUMMARY:Meat delivery to Kamloops & the Okanagan Region in May
DESCRIPTION:Our  next meat delivery to Kamloops & the Okanagan Region will be on May\, 5th 2023.\nFor our usual delivery spots see the bottom of our Ordering & Delivery page (click here). We are always open to new suggestions for delivery/pick-up points.
URL:https://bigbearranch.com/event/meat-delivery-to-kamloops-the-okanagan-region-in-april/
LOCATION:Kamloops & Okanagan\, Central Okanagan\, British Columbia\, Canada
CATEGORIES:Meat Delivery
ORGANIZER;CN="Rainer Krumsiek":MAILTO:info@bigbearranch.com
END:VEVENT
BEGIN:VEVENT
DTSTART;VALUE=DATE:20230506
DTEND;VALUE=DATE:20230507
DTSTAMP:20260420T181919
CREATED:20230325T115255Z
LAST-MODIFIED:20230414T173721Z
UID:2013-1683331200-1683417599@bigbearranch.com
SUMMARY:Meat delivery in May to the Lower Mainland and Vancouver
DESCRIPTION:Our next meat delivery to the Lower Mainland & Vancouver will be on May\, 6th 2023\nFor our usual delivery spots see the bottom of our Ordering & Delivery page (click here). We are always open to new suggestions for delivery/pick-up points.
URL:https://bigbearranch.com/event/second-meat-delivery-in-april-to-the-lower-mainland-and-vancouver/
LOCATION:Vancouver & Lower Mainland\, Vancouver Lower Mainland\, British Columbia\, Canada
CATEGORIES:Meat Delivery
ORGANIZER;CN="Rainer Krumsiek":MAILTO:info@bigbearranch.com
END:VEVENT
END:VCALENDAR